BEGIN:VCALENDAR
VERSION:2.0
PRODID:-//Outdoor Town - ECPv6.15.20//NONSGML v1.0//EN
CALSCALE:GREGORIAN
METHOD:PUBLISH
X-ORIGINAL-URL:https://outdoortown.uk
X-WR-CALDESC:Events for Outdoor Town
REFRESH-INTERVAL;VALUE=DURATION:PT1H
X-Robots-Tag:noindex
X-PUBLISHED-TTL:PT1H
BEGIN:VTIMEZONE
TZID:Europe/London
BEGIN:DAYLIGHT
TZOFFSETFROM:+0000
TZOFFSETTO:+0100
TZNAME:BST
DTSTART:20220327T010000
END:DAYLIGHT
BEGIN:STANDARD
TZOFFSETFROM:+0100
TZOFFSETTO:+0000
TZNAME:GMT
DTSTART:20221030T010000
END:STANDARD
BEGIN:DAYLIGHT
TZOFFSETFROM:+0000
TZOFFSETTO:+0100
TZNAME:BST
DTSTART:20230326T010000
END:DAYLIGHT
BEGIN:STANDARD
TZOFFSETFROM:+0100
TZOFFSETTO:+0000
TZNAME:GMT
DTSTART:20231029T010000
END:STANDARD
BEGIN:DAYLIGHT
TZOFFSETFROM:+0000
TZOFFSETTO:+0100
TZNAME:BST
DTSTART:20240331T010000
END:DAYLIGHT
BEGIN:STANDARD
TZOFFSETFROM:+0100
TZOFFSETTO:+0000
TZNAME:GMT
DTSTART:20241027T010000
END:STANDARD
BEGIN:DAYLIGHT
TZOFFSETFROM:+0000
TZOFFSETTO:+0100
TZNAME:BST
DTSTART:20250330T010000
END:DAYLIGHT
BEGIN:STANDARD
TZOFFSETFROM:+0100
TZOFFSETTO:+0000
TZNAME:GMT
DTSTART:20251026T010000
END:STANDARD
END:VTIMEZONE
BEGIN:VEVENT
DTSTART;TZID=Europe/London:20240325T080000
DTEND;TZID=Europe/London:20240325T170000
DTSTAMP:20260423T155343
CREATED:20240325T092645Z
LAST-MODIFIED:20240325T092646Z
UID:10005078-1711353600-1711386000@outdoortown.uk
SUMMARY:Town t'Turf Walk and Tour
DESCRIPTION:Starting at Burnley Central Library you will have the opportunity to take a look at the Clarets Collected memorabilia\, before taking a stroll to Turf Moor. Upon arrival at Turf Moor you will have a look behind the scenes including the Trophy Room (yes\, we have some)\, and a pitch side walk to the changing rooms via the press office. You will even have the opportunity for a picture in the dugouts before finishing with a stroll back to the library.A walk with a difference for any clarets fan.
URL:https://outdoortown.uk/event/town-tturf-walk-and-tour/
LOCATION:Burnley Library\, Grimshaw Street\, Burnley\, BB11 2BD\, United Kingdom
CATEGORIES:Outdoor Town,Spring
ATTACH;FMTTYPE=image/webp:https://outdoortown.uk/wp-content/uploads/2024/03/BFC.webp
ORGANIZER;CN="Newground Together - Great Outdoors Team":MAILTO:michael.duckworth@newground.co.uk
END:VEVENT
BEGIN:VEVENT
DTSTART;TZID=Europe/London:20230929T130000
DTEND;TZID=Europe/London:20230929T143000
DTSTAMP:20260423T155343
CREATED:20230724T100741Z
LAST-MODIFIED:20230724T103206Z
UID:10004642-1695992400-1695997800@outdoortown.uk
SUMMARY:Burnley Library Walks
DESCRIPTION:Join the Friday guided walks from Burnley Central Library.Each month these walks will have a different theme and routes – discussing local history\, culture\, nature and more. The series of walks will have something for all the family so you can find out more about our wonderful borough whilst taking a stroll and meeting others. Walks last approximately 90 minutes\, followed by refreshments Please check poster below for additional walks from other locations.
URL:https://outdoortown.uk/event/burnley-library-walks/2023-09-29/
LOCATION:Burnley Library\, Grimshaw Street\, Burnley\, BB11 2BD\, United Kingdom
CATEGORIES:Autumn,Outdoor Town,Summer
ATTACH;FMTTYPE=image/jpeg:https://outdoortown.uk/wp-content/uploads/2023/07/Padiham-Walk-4-scaled.jpg
ORGANIZER;CN="Newground Together - Great Outdoors Team":MAILTO:michael.duckworth@newground.co.uk
END:VEVENT
BEGIN:VEVENT
DTSTART;TZID=Europe/London:20230901T130000
DTEND;TZID=Europe/London:20230901T143000
DTSTAMP:20260423T155343
CREATED:20230724T100741Z
LAST-MODIFIED:20230724T103206Z
UID:10004641-1693573200-1693578600@outdoortown.uk
SUMMARY:Burnley Library Walks
DESCRIPTION:Join the Friday guided walks from Burnley Central Library.Each month these walks will have a different theme and routes – discussing local history\, culture\, nature and more. The series of walks will have something for all the family so you can find out more about our wonderful borough whilst taking a stroll and meeting others. Walks last approximately 90 minutes\, followed by refreshments Please check poster below for additional walks from other locations.
URL:https://outdoortown.uk/event/burnley-library-walks/2023-09-01/
LOCATION:Burnley Library\, Grimshaw Street\, Burnley\, BB11 2BD\, United Kingdom
CATEGORIES:Autumn,Outdoor Town,Summer
ATTACH;FMTTYPE=image/jpeg:https://outdoortown.uk/wp-content/uploads/2023/07/Padiham-Walk-4-scaled.jpg
ORGANIZER;CN="Newground Together - Great Outdoors Team":MAILTO:michael.duckworth@newground.co.uk
END:VEVENT
BEGIN:VEVENT
DTSTART;TZID=Europe/London:20230804T130000
DTEND;TZID=Europe/London:20230804T143000
DTSTAMP:20260423T155343
CREATED:20230724T100741Z
LAST-MODIFIED:20230724T103206Z
UID:10004640-1691154000-1691159400@outdoortown.uk
SUMMARY:Burnley Library Walks
DESCRIPTION:Join the Friday guided walks from Burnley Central Library.Each month these walks will have a different theme and routes – discussing local history\, culture\, nature and more. The series of walks will have something for all the family so you can find out more about our wonderful borough whilst taking a stroll and meeting others. Walks last approximately 90 minutes\, followed by refreshments Please check poster below for additional walks from other locations.
URL:https://outdoortown.uk/event/burnley-library-walks/2023-08-04/
LOCATION:Burnley Library\, Grimshaw Street\, Burnley\, BB11 2BD\, United Kingdom
CATEGORIES:Autumn,Outdoor Town,Summer
ATTACH;FMTTYPE=image/jpeg:https://outdoortown.uk/wp-content/uploads/2023/07/Padiham-Walk-4-scaled.jpg
ORGANIZER;CN="Newground Together - Great Outdoors Team":MAILTO:michael.duckworth@newground.co.uk
END:VEVENT
END:VCALENDAR